Workbook

Sheet Box 3 berekening
H2: Meer weten of meteen besparingen in gang zetten? Neem contact met me op!
H5: Telefoon: 033-3037709
H6: Email: david@personalwealth.nl
D9: Je huidige situatie in box 3 | I9: Situatie na besparingen box 3 | L9: Delta
D12: Fiscaal partner? | E12: nee | F12: <-- Selecteer
D14: Jouw vermogen en schulden in box 3 | I14: Jouw vermogen en schulden in box 3
D15: Banktegoeden | E15: 1 | F15: <-- Vul in | I15: Banktegoeden | J15: =Blad5!E6 -> 1 | L15: =J15-E15 -> 0
D16: Beleggingen en andere bezittingen (excl groen) | F16: <-- Vul in | I16: Beleggingen en andere bezittingen (excl groen) | J16: =Blad5!E7 -> 0 | L16: =J16-E16 -> 0
D17: Groene beleggingen | F17: <-- Vul in | I17: Groene beleggingen | J17: =Blad5!E8 -> 0 | L17: =J17-E17 -> 0
D18: Schulden | F18: <-- Vul in | I18: Schulden | J18: =Blad5!E11 -> 0 | L18: =J18-E18 -> 0
D19: Huidig vermogen in box 3 | E19: =E15+E16+E17-E18 -> 1 | I19: Huidig vermogen in box 3 | J19: =J15+J16+J17-J18 -> 1 | L19: =J19-E19 -> 0
D22: Samenvatting huidige situatie | I22: Samenvatting na besparingen
D24: Totaal vermogen box 3 | E24: =E19 -> 1 | I24: Totaal vermogen box 3 | J24: =J19 -> 1 | L24: =J24-E24 -> 0 | M24: vermogen in box 3 verlaagd
D25: Te betalen box 3 belasting | E25: =E55 -> 0 | I25: Te betalen box 3 belasting | J25: =J55 -> 0 | L25: =E25-J25 -> 0 | M25: belasing bespaard
D26: Effectieve belasting op vermogen | E26: =E25/E24 -> 0 | I26: Effectieve belasting op vermogen | J26: =J25/J24 -> 0
D30: Totale berekening | I30: Totale berekening
C32: 1 | D32: Bereken het belastbaar rendement | I32: Bereken het belastbaar rendement
D33: Banktegoeden | E33: =E15*F33 -> 0.0144 | F33: 0.0144 | I33: Banktegoeden | J33: =J15*K33 -> 0.0144 | K33: 0.0144
D34: Beleggingen en andere bezittingen | E34: =(E16+E65)*F34 -> 0 | F34: 0.0588 | I34: Beleggingen en andere bezittingen | J34: =(J16+J65)*K34 -> 0 | K34: 0.0588
D35: Schulden | E35: =-E63*F35 -> 0 | F35: 0.0262 | I35: Schulden | J35: =-J63*K35 -> 0 | K35: 0.0262
D36: Totaal belastbaar rendement | E36: =E33+E34+E35 -> 0.0144 | I36: Totaal belastbaar rendement | J36: =J33+J34+J35 -> 0.0144
C38: 2 | D38: Bereken rendementsgrondslag | I38: Bereken rendementsgrondslag
D39: Bezittingen | E39: =E15+E16+E17 -> 1 | I39: Bezittingen | J39: =J15+J16+J17 -> 1
D40: Netto schuld | E40: =MAX(,E18-E62) -> 0 | I40: Netto schuld | J40: =MAX(,J18-J62) -> 0
D41: Netto vermogen (rendementsgrondslag) | E41: =E39-E40 -> 1 | I41: Netto vermogen (rendementsgrondslag) | J41: =J39-J40 -> 1
C43: 3 | D43: Bereken de grondslag sparen en beleggen | I43: Bereken de grondslag sparen en beleggen
D44: Heffingsvrij vermogen | E44: =E61 -> 57684 | I44: Heffingsvrij vermogen | J44: =J61 -> 57684
D45: Grondslag sparen en beleggen | E45: =MAX(0,(E41-E44)) -> 0 | I45: Grondslag sparen en beleggen | J45: =MAX(0,J41-J44) -> 0
C47: 4 | D47: Bereken jouw aandeel in de rendementsgrondslag | I47: Bereken jouw aandeel in de rendementsgrondslag
D48: Jouw aandeel | E48: =E45/E41 -> 0 | I48: Jouw aandeel | J48: =J45/J41 -> 0
C50: 5 | D50: Bereken jouw voordeel uit sparen en beleggen | I50: Bereken jouw voordeel uit sparen en beleggen
D51: Voordeel sparen en beleggen | E51: =E48*E36 -> 0 | I51: Voordeel sparen en beleggen | J51: =J48*J36 -> 0
C53: 6 | D53: Bereken te betalen belasting | I53: Bereken te betalen belasting
D54: Belastingtarief box 3 | E54: 0.36 | I54: Belastingtarief box 3 | J54: 0.36
D55: Te betalen box 3 belasting | E55: =E54*E51 -> 0 | I55: Te betalen box 3 belasting | J55: =J54*J51 -> 0
D56: Effectieve belasting op vermogen | E56: =E55/E19 -> 0 | I56: Effectieve belasting op vermogen | J56: =J55/J19 -> 0
D59: Overige informatie | I59: Overige informatie
D60: Vrijstellingen + schuldendrempel | I60: Vrijstellingen + schuldendrempel
A61: 57684 | B61: =A61*2 -> 115368 | D61: Heffingsvrij vermogen | E61: =IF(E12="ja",B61,A61) -> 57684 | I61: Heffingsvrij vermogen | J61: =IF(J12="ja",F61,E61) -> 57684
A62: 3800 | B62: =A62*2 -> 7600 | D62: Schulden drempel | E62: =IF(E12="ja",B62,A62) -> 3800 | I62: Schulden drempel | J62: =IF(J12="ja",F62,E62) -> 3800
D63: Belastbare schulden | E63: =MAX(0,(E18-E62)) -> 0 | I63: Belastbare schulden | J63: =MAX(0,(J18-J62)) -> 0
A64: 26312 | B64: =A64*2 -> 52624 | D64: Vrijstelling groene beleggingen | E64: =IF(E12="ja",B64,A64) -> 26312 | I64: Vrijstelling groene beleggingen | J64: =IF(J12="ja",F64,E64) -> 26312
D65: Belastbare groene beleggingen | E65: =MAX(0,E17-E64) -> 0 | I65: Groene beleggingen belast | J65: =MAX(0,J17-J64) -> 0

Sheet Belasting besparen
D2: Besparen door vermogen in box 3 te verlagen
F4: Vul negatieve bedragen in
E6: Actie | F6: Bedrag | G6: Omschrijving
D7: 1. | E7: Geld uitgeven | G7: Als je van plan bent een grote uitgave te doen, doe dit dan voor 1 januari
D8: 2. | E8: Lijfrente storten | G8: Bij het storten op een lijfrente rekening (pensioensparen/pensioenbeleggen) verplaats je je inkomen van box 3 naar box 1. Je betaalt in box 3 geen vermogensheffing meer en in box 1 heb je een aftrekpost op de inkomstenbelasting
D9: 3. | E9: Schenken aan kinderen | G9: In 2025 kan je aan elk kind belagstingvrij € 6713,- schenken. Tot je kind 18 is telt dit wel mee bij jouw vermogen
D10: 4. | E10: Agio storten in BV | G10: Na een agio storting in je BV betaal je geen box 3 belasting meer. Je gaat wel vennootschapsbelasting betalen over het rendement
D11: 5. | E11: Geven aan goed doel | G11: Je kan tot 1,5 miljoen per jaar belastingvrij geven aan een goed doel met ANBI status. Je krijgt ook nog aftrek op de inkomstenbelasting
D12: 6. | E12: Investeren in je woning | G12: Als je woning in box 1 zit en je investeert in je woning gaat je geld weg uit box 3
D13: 7. | E13: Hypotheek aflossen | G13: Als je extra aflost op je hypotheek in box 1, verlaag je je vermogen in box 3
D14: 8. | E14: Overig
F15: =SUM(F7:F14) -> 0
D20: Besparen door schulden in box 3 te verhogen
F22: Vul positieve bedragen in
E24: Actie | F24: Bedrag | G24: Omschrijving
D25: 1 | E25: Hypotheek naar box 3 | G25: In sommige gevallen is het mogelijk je hypotheek te verplaatsen van box 1 naar box 3. Kan interessant zijn als je een heel lage hypotheekrente hebt en weinig hypotheekrenteaftrek krijgt
D26: 2 | E26: Investeren in vastgoed | G26: Door te investeren in vastgoed met een fors lagere WOZ waarde dan de marktwaarde kan je mogelijk meer lenen dan de WOZ waarde. Per saldo gaat je vermogen in box 3 dan omlaag
D27: 3 | E27: Overig
F29: =SUM(F25:F28) -> 0

Sheet Definities
B4: Banktegoeden | C4: Beleggingen en andere bezittingen (excl groen) | D4: Schulden
B5: bank- en spaartegoeden in Nederland | C5: aandelen, obligaties, effecten en andere beleggingen | D5: schulden voor bijvoorbeeld een auto of een vakantie
B6: bank- en spaartegoeden buiten Nederland | C6: het niet vrijgestelde deel van uw groene beleggingen | D6: negatief saldo op een bankrekening
B7: contant geld dat boven de vrijstelling uitkomt | C7: overige vorderingen (behalve vorderingen tussen fiscale partners of tussen ouders en minderjarige kinderen) | D7: schulden voor de financiering van aandelen, obligaties, effecten en andere beleggingen
B8: premiedepots | C8: een 2e woning in Nederland | D8: schulden voor een 2e woning of overige onroerende zaken
B9: het niet vrijgesteld deel van uw groene spaartegoeden | C9: een 2e woning buiten Nederland | D9: (hypotheek)schulden die u niet in box 1 mag aftrekken
B10: uw aandeel in het vermogen van een 'vereniging van eigenaren (VvE) | C10: een woning die u verhuurt | D10: een bedrag van levenlanglerenkrediet dat u moet terugbetalen
B11: Geld dat op een derdenrekening van een notaris of gerechtsdeurwaarder staat | C11: overige onroerende zaken | D11: erfbelasting
C12: cryptovaluta | D12: een schuld door een schenking op papier (behalve de schuld tussen fiscale partners of tussen ouders en minderjarige kinderen)
C13: een lot waarop een prijs is gevallen

Sheet ja-nee
A1: ja
A2: nee

Sheet Blad5
B4: Hulpberekening
C5: Nu | D5: Acties | E5: Resterend
B6: Banktegoeden | C6: ='Box 3 berekening'!E15 -> 1 | D6: =IF(D9>C6,C6,D9) -> 0 | E6: =C6+D6 -> 1
B7: Beleggingen en andere bezittingen (excl. Groen) | C7: ='Box 3 berekening'!E16 -> 0 | D7: =D9-D6 -> 0 | E7: =C7+D7 -> 0
B8: Groene beleggingen en andere bezittingen | C8: ='Box 3 berekening'!E17 -> 0 | E8: =C8-D8 -> 0
C9: =C6+C7+C8 -> 1 | D9: ='Belasting besparen'!F15 -> 0 | E9: =E6+E7+E8 -> 1
B11: Schulden | C11: ='Box 3 berekening'!E18 -> 0 | D11: ='Belasting besparen'!F29 -> 0 | E11: =C11+D11 -> 0
