Workbook

Sheet Box 3 berekening
J2: Meer weten of meteen besparingen in gang zetten? Neem contact met me op!
J5: Telefoon: 033-3037709
J6: Email: david@personalwealth.nl
D8: Aan dit document kan op geen enkele manier rechten worden ontleend
D9: Deze rekentool geeft een sterk vereenvoudigde weergave van de werkelijkheid, zonder met alle aspecten rekening te houden
D10: Voor professioneel advies is het verstandig een expert te raadplegen
D14: Je huidige situatie in box 3 | K14: Situatie na besparingen box 3 | P14: Delta bespaard
D17: Fiscaal partner? | E17: nee | F17: <-- Selecteer
D19: Jouw vermogen en schulden in box 3 | K19: Jouw vermogen en schulden in box 3 | P19: 2025 | Q19: 2026
D20: Banktegoeden | E20: 1 | F20: <-- Vul in | K20: Banktegoeden | L20: ='HV nieuw'!F13 -> 1 | P20: =L20-E20 -> 0 | Q20: =P20 -> 0
D21: Beleggingen en andere bezittingen (excl groen) | F21: <-- Vul in | K21: Beleggingen en andere bezittingen (excl groen) | L21: ='HV nieuw'!F14 -> 0 | P21: =L21-E21 -> 0 | Q21: =P21 -> 0
D22: Groene beleggingen | F22: <-- Vul in | K22: Groene beleggingen | L22: =Blad5!E8 -> 0 | P22: =L22-E22 -> 0 | Q22: =P22 -> 0
D23: Schulden | F23: <-- Vul in | K23: Schulden | L23: =Blad5!E11 -> 0 | P23: =L23-E23 -> 0 | Q23: =P23 -> 0
D24: Huidig vermogen in box 3 | E24: =E20+E21+E22-E23 -> 1 | K24: Huidig vermogen in box 3 | L24: =L20+L21+L22-L23 -> 1 | P24: =L24-E24 -> 0 | Q24: =P24 -> 0
D28: Samenvatting huidige situatie | K28: Samenvatting na besparingen
E30: 2025 | F30: 2026 | G30: Stijging | L30: 2025 | M30: 2026 | N30: Stijging | P30: 2025 | Q30: 2026
D31: Totaal vermogen box 3 | E31: =E24 -> 1 | F31: =E31 -> 1 | G31: =F31-E31 -> 0 | K31: Totaal vermogen box 3 | L31: =L24 -> 1 | M31: =L24 -> 1 | N31: =M31-L31 -> 0 | P31: =L31-E31 -> 0 | Q31: =M31-F31 -> 0 | R31: vermogen in box 3 verlaagd
D32: Te betalen box 3 belasting | E32: =E73 -> 0 | F32: =F73 -> 0 | G32: =F32-E32 -> 0 | K32: Te betalen box 3 belasting | L32: =L73 -> 0 | M32: =M73 -> 0 | N32: =M32-L32 -> 0 | P32: =E32-L32 -> 0 | Q32: =F32-M32 -> 0 | R32: belasting bespaard
D33: Effectieve belasting op vermogen | E33: =E32/E31 -> 0 | F33: =F74 -> 0 | G33: =F32/E32-1 -> #DIV/0! | K33: Effectieve belasting op vermogen | L33: =L32/L31 -> 0 | M33: =M32/M31 -> 0 | N33: =M32/L32-1 -> #DIV/0!
D42: Totale berekening | K42: Totale berekening
D44: Forfaitaire rendementen | E44: 2025 | F44: 2026 | K44: Forfaitaire rendementen | L44: 2025 | M44: 2026
D45: Banktegoeden | E45: 0.0144 | F45: 0.0144 | K45: Banktegoeden | L45: 0.0144 | M45: 0.0144
D46: Beleggingen en andere bezittingen | E46: 0.0588 | F46: 0.0777 | K46: Beleggingen en andere bezittingen | L46: 0.0588 | M46: =F46 -> 0.0777
D47: Schulden | E47: 0.0262 | F47: 0.0262 | K47: Schulden | L47: 0.0262 | M47: 0.0262
C50: 1 | D50: Bereken het belastbaar rendement | K50: Bereken het belastbaar rendement
D51: Banktegoeden | E51: =E20*E45 -> 0.0144 | F51: =E20*F45 -> 0.0144 | K51: Banktegoeden | L51: =L20*E45 -> 0.0144 | M51: =L20*F45 -> 0.0144
D52: Beleggingen en andere bezittingen | E52: =(E21+E83)*E46 -> 0 | F52: =(E21+F83)*F46 -> 0 | K52: Beleggingen en andere bezittingen | L52: =(L21+L83)*E46 -> 0 | M52: =(L21+M83)*F46 -> 0
D53: Schulden | E53: =-E81*E47 -> 0 | F53: =-F81*F47 -> 0 | K53: Schulden | L53: =-L81*E47 -> 0 | M53: =-M81*F47 -> 0
D54: Totaal belastbaar rendement | E54: =E51+E52+E53 -> 0.0144 | F54: =F51+F52+F53 -> 0.0144 | K54: Totaal belastbaar rendement | L54: =L51+L52+L53 -> 0.0144 | M54: =M51+M52+M53 -> 0.0144
C56: 2 | D56: Bereken rendementsgrondslag | K56: Bereken rendementsgrondslag
D57: Bezittingen | E57: =E20+E21+E22 -> 1 | F57: =E20+E21+E22 -> 1 | K57: Bezittingen | L57: =L20+L21+L22 -> 1 | M57: =L20+L21+L22 -> 1
D58: Netto schuld | E58: =MAX(,E23-E80) -> 0 | F58: =MAX(,E23-E80) -> 0 | K58: Netto schuld | L58: =MAX(,L23-L80) -> 0 | M58: =MAX(,L23-L80) -> 0
D59: Netto vermogen (rendementsgrondslag) | E59: =E57-E58 -> 1 | F59: =F57-F58 -> 1 | K59: Netto vermogen (rendementsgrondslag) | L59: =L57-L58 -> 1 | M59: =M57-M58 -> 1
C61: 3 | D61: Bereken de grondslag sparen en beleggen | K61: Bereken de grondslag sparen en beleggen
D62: Heffingsvrij vermogen | E62: =E79 -> 57684 | F62: =F79 -> 51396 | K62: Heffingsvrij vermogen | L62: =L79 -> 57684 | M62: =M79 -> 51396
D63: Grondslag sparen en beleggen | E63: =MAX(0,(E59-E62)) -> 0 | F63: =MAX(0,(F59-F62)) -> 0 | K63: Grondslag sparen en beleggen | L63: =MAX(0,L59-L62) -> 0 | M63: =MAX(0,M59-M62) -> 0
C65: 4 | D65: Bereken jouw aandeel in de rendementsgrondslag | K65: Bereken jouw aandeel in de rendementsgrondslag
D66: Jouw aandeel | E66: =E63/E59 -> 0 | F66: =F63/F59 -> 0 | K66: Jouw aandeel | L66: =L63/L59 -> 0 | M66: =M63/M59 -> 0
C68: 5 | D68: Bereken jouw voordeel uit sparen en beleggen | K68: Bereken jouw voordeel uit sparen en beleggen
D69: Voordeel sparen en beleggen | E69: =E66*E54 -> 0 | F69: =F66*F54 -> 0 | K69: Voordeel sparen en beleggen | L69: =L66*L54 -> 0 | M69: =M66*M54 -> 0
C71: 6 | D71: Bereken te betalen belasting | K71: Bereken te betalen belasting
D72: Belastingtarief box 3 | E72: 0.36 | F72: 0.36 | K72: Belastingtarief box 3 | L72: 0.36 | M72: 0.36
D73: Te betalen box 3 belasting | E73: =E72*E69 -> 0 | F73: =F72*F69 -> 0 | K73: Te betalen box 3 belasting | L73: =L72*L69 -> 0 | M73: =M72*M69 -> 0
D74: Effectieve belasting op vermogen | E74: =E73/E24 -> 0 | F74: =F73/E24 -> 0 | K74: Effectieve belasting op vermogen | L74: =L73/L24 -> 0 | M74: =M73/L24 -> 0
D77: Overige informatie | K77: Overige informatie
D78: Vrijstellingen + schuldendrempel | K78: Vrijstellingen + schuldendrempel
A79: 57684 | B79: =A79*2 -> 115368 | D79: Heffingsvrij vermogen | E79: =IF(E17="ja",B79,A79) -> 57684 | F79: =IF(E17="ja",'HV nieuw'!F6,'HV nieuw'!F5) -> 51396 | K79: Heffingsvrij vermogen | L79: =E79 -> 57684 | M79: =F79 -> 51396
A80: 3800 | B80: =A80*2 -> 7600 | D80: Schulden drempel | E80: =IF(E17="ja",B80,A80) -> 3800 | F80: =IF(E17="ja",B80,A80) -> 3800 | K80: Schulden drempel | L80: =IF(L17="ja",F80,E80) -> 3800 | M80: =IF(M17="ja",G80,F80) -> 3800
D81: Belastbare schulden | E81: =MAX(0,(E23-E80)) -> 0 | F81: =MAX(0,(E23-F80)) -> 0 | K81: Belastbare schulden | L81: =MAX(0,(L23-L80)) -> 0 | M81: =MAX(0,(L23-M80)) -> 0
A82: 26312 | B82: =A82*2 -> 52624 | D82: Vrijstelling groene beleggingen | E82: =IF(E17="ja",B82,A82) -> 26312 | F82: =IF(E17="ja",B82,A82) -> 26312 | K82: Vrijstelling groene beleggingen | L82: =E82 -> 26312 | M82: =F82 -> 26312
D83: Belastbare groene beleggingen | E83: =MAX(0,E22-E82) -> 0 | F83: =MAX(0,E22-E82) -> 0 | K83: Groene beleggingen belast | L83: =MAX(0,L22-L82) -> 0 | M83: =MAX(0,L22-M82) -> 0

Sheet HV nieuw
C5: Heffingsvrij vermogen nieuw | F5: 51396
C6: Met fiscaal partner | F6: =F5*2 -> 102792
D12: Voor bespariing | E12: Acties | F12: Na actie
C13: Banktegoeden | D13: ='Box 3 berekening'!E20 -> 1 | E13: =IF(E16>D13,D13,E16) -> 0 | F13: =D13-E13 -> 1
C14: Beleggingen en andere bezittingen (excl groen) | D14: ='Box 3 berekening'!E21 -> 0 | E14: =E16-E13 -> 0 | F14: =D14-E14 -> 0
F15: =D15-E15 -> 0
D16: =SUM(D13:D15) -> 1 | E16: =-'Belasting besparen'!F15 -> 0 | F16: =D16-E16 -> 1

Sheet Belasting besparen
D2: Besparen door vermogen in box 3 te verlagen
F4: Vul negatieve bedragen in
E6: Actie | F6: Bedrag | G6: Omschrijving
D7: 1. | E7: Geld uitgeven | G7: Als je van plan bent een grote uitgave te doen, doe dit dan voor 1 januari
D8: 2. | E8: Lijfrente storten | G8: Bij het storten op een lijfrente rekening (pensioensparen/pensioenbeleggen) verplaats je je inkomen van box 3 naar box 1. Je betaalt in box 3 geen vermogensheffing meer en in box 1 heb je een aftrekpost op de inkomstenbelasting
D9: 3. | E9: Schenken aan kinderen | G9: In 2025 kan je aan elk kind belagstingvrij € 6713,- schenken. Tot je kind 18 is telt dit wel mee bij jouw vermogen
D10: 4. | E10: Agio storten in BV | G10: Na een agio storting in je BV betaal je geen box 3 belasting meer. Je gaat wel vennootschapsbelasting betalen over het rendement
D11: 5. | E11: Geven aan goed doel | G11: Je kan tot 1,5 miljoen per jaar belastingvrij geven aan een goed doel met ANBI status. Je krijgt ook nog aftrek op de inkomstenbelasting
D12: 6. | E12: Investeren in je woning | G12: Als je woning in box 1 zit en je investeert in je woning gaat je geld weg uit box 3
D13: 7. | E13: Hypotheek aflossen | G13: Als je extra aflost op je hypotheek in box 1, verlaag je je vermogen in box 3
D14: 8. | E14: Overig
F15: =SUM(F7:F14) -> 0
D20: Besparen door schulden in box 3 te verhogen
F22: Vul positieve bedragen in
E24: Actie | F24: Bedrag | G24: Omschrijving
D25: 1 | E25: Hypotheek naar box 3 | G25: In sommige gevallen is het mogelijk je hypotheek te verplaatsen van box 1 naar box 3. Kan interessant zijn als je een heel lage hypotheekrente hebt en weinig hypotheekrenteaftrek krijgt
D26: 2 | E26: Investeren in vastgoed | G26: Door te investeren in vastgoed met een fors lagere WOZ waarde dan de marktwaarde kan je mogelijk meer lenen dan de WOZ waarde. Per saldo gaat je vermogen in box 3 dan omlaag
D27: 3 | E27: Overig
F29: =SUM(F25:F28) -> 0

Sheet Definities
B4: Banktegoeden | C4: Beleggingen en andere bezittingen (excl groen) | D4: Schulden
B5: bank- en spaartegoeden in Nederland | C5: aandelen, obligaties, effecten en andere beleggingen | D5: schulden voor bijvoorbeeld een auto of een vakantie
B6: bank- en spaartegoeden buiten Nederland | C6: het niet vrijgestelde deel van uw groene beleggingen | D6: negatief saldo op een bankrekening
B7: contant geld dat boven de vrijstelling uitkomt | C7: overige vorderingen (behalve vorderingen tussen fiscale partners of tussen ouders en minderjarige kinderen) | D7: schulden voor de financiering van aandelen, obligaties, effecten en andere beleggingen
B8: premiedepots | C8: een 2e woning in Nederland | D8: schulden voor een 2e woning of overige onroerende zaken
B9: het niet vrijgesteld deel van uw groene spaartegoeden | C9: een 2e woning buiten Nederland | D9: (hypotheek)schulden die u niet in box 1 mag aftrekken
B10: uw aandeel in het vermogen van een 'vereniging van eigenaren (VvE) | C10: een woning die u verhuurt | D10: een bedrag van levenlanglerenkrediet dat u moet terugbetalen
B11: Geld dat op een derdenrekening van een notaris of gerechtsdeurwaarder staat | C11: overige onroerende zaken | D11: erfbelasting
C12: cryptovaluta | D12: een schuld door een schenking op papier (behalve de schuld tussen fiscale partners of tussen ouders en minderjarige kinderen)
C13: een lot waarop een prijs is gevallen

Sheet ja-nee
A1: ja
A2: nee

Sheet Blad5
B4: Hulpberekening
C5: Nu | D5: Acties | E5: Resterend
B6: Banktegoeden | C6: ='Box 3 berekening'!E20 -> 1 | D6: =IF(D9>C6,C6,D9) -> 0 | E6: =C6+D6 -> 1
B7: Beleggingen en andere bezittingen (excl. Groen) | C7: ='Box 3 berekening'!E21 -> 0 | D7: =D9-D6 -> 0 | E7: =C7+D7 -> 0
B8: Groene beleggingen en andere bezittingen | C8: ='Box 3 berekening'!E22 -> 0 | E8: =C8-D8 -> 0
C9: =C6+C7+C8 -> 1 | D9: ='Belasting besparen'!F15 -> 0 | E9: =E6+E7+E8 -> 1
B11: Schulden | C11: ='Box 3 berekening'!E23 -> 0 | D11: ='Belasting besparen'!F29 -> 0 | E11: =C11+D11 -> 0
